BEGIN:VCALENDAR
VERSION:2.0
METHOD:PUBLISH
PRODID:-//Agenda.ad//NONSGML v1.0//EN
BEGIN:VEVENT
CLASS:PUBLIC
UID:86702dfbb83d6359d14cf7faf15dbafb@agenda.ad
DTSTAMP:20260419T190641Z
DTSTART:20251117T230000Z
DTEND:20260312T230000Z
SUMMARY:<p>Exposici&oacute; '<span>Pioners 1884-1954. L&rsquo;Andorra dels primers fot&ograve;grafs'</span>&nbsp;</p>
<p align="center">&nbsp;</p>
DESCRIPTION:\n\nMés informació\nhttps://www.agenda.ad/activitat/andorr
 a-la-vella/exposicions/exposicio-pioners-1884-1954-landorra-
 dels-primers-fotografs- - \n\n\nOrganitza\nÀrea d'Acció 
 Cultural (Ministeri de Cultura, Joventut i Esports) i l'Arxi
 u Nacional d'Andorra
LOCATION:Sala d’Exposicions del Govern d'Andorra
SEQUENCE:0
TRANSP:OPAQUE
X-ALT-DESC;FMTTYPE=text/html:<!DOCTYPE HTML PUBLIC "-//W3C//DTD HTML 3.2//EN"><HTML><HEAD
 ><TITLE></TITLE></HEAD><BODY><FONT FACE="Arial" SIZE=2><br/>
 <br/><b>Més informació</b><br/><a href="https://www.agenda
 .ad/activitat/andorra-la-vella/exposicions/exposicio-pioners
 -1884-1954-landorra-dels-primers-fotografs- - ">https://ww
 w.agenda.ad/activitat/andorra-la-vella/exposicions/exposicio
 -pioners-1884-1954-landorra-dels-primers-fotografs- - </a>
 <br/><br/><br/><b>Organitza</b><br/>Àrea d'Acció Cultural 
 (Ministeri de Cultura, Joventut i Esports) i l'Arxiu Naciona
 l d'Andorra</FONT></BODY></HTML>
END:VEVENT
END:VCALENDAR